BEGIN:VCALENDAR
VERSION:2.0
PRODID:icalendar-ruby
CALSCALE:GREGORIAN
METHOD:PUBLISH
BEGIN:VEVENT
DTSTAMP:20260419T140003Z
UID:5-1142161@aplacetobelong.church
DTSTART:20260906T170000Z
DTEND:20260906T180000Z
CLASS:PUBLIC
CREATED:20260419T045420
DESCRIPTION:Sunday Worship
LAST-MODIFIED:20260419T045420
LOCATION:
SUMMARY:Sunday Worship
URL;VALUE=URI:https://www.placetobelong.church/events/sunday-worship/2026-0
 9-06
END:VEVENT
END:VCALENDAR
