BEGIN:VCALENDAR
VERSION:2.0
PRODID:icalendar-ruby
CALSCALE:GREGORIAN
METHOD:PUBLISH
BEGIN:VEVENT
DTSTAMP:20260419T171103Z
UID:5-1142749@aplacetobelong.church
DTSTART:20260920T170000Z
DTEND:20260920T180000Z
CLASS:PUBLIC
CREATED:20260419T083726
DESCRIPTION:Sunday Worship
LAST-MODIFIED:20260419T083726
LOCATION:
SUMMARY:Sunday Worship
URL;VALUE=URI:https://www.placetobelong.church/events/sunday-worship/2026-0
 9-20
END:VEVENT
END:VCALENDAR
