BEGIN:VCALENDAR
VERSION:2.0
PRODID:icalendar-ruby
CALSCALE:GREGORIAN
METHOD:PUBLISH
BEGIN:VEVENT
DTSTAMP:20260419T184437Z
UID:5-1143336@aplacetobelong.church
DTSTART:20260927T170000Z
DTEND:20260927T180000Z
CLASS:PUBLIC
CREATED:20260419T121919
DESCRIPTION:Sunday Worship
LAST-MODIFIED:20260419T121919
LOCATION:
SUMMARY:Sunday Worship
URL;VALUE=URI:https://www.placetobelong.church/events/sunday-worship/2026-0
 9-27
END:VEVENT
END:VCALENDAR
