BEGIN:VCALENDAR
VERSION:2.0
PRODID:icalendar-ruby
CALSCALE:GREGORIAN
METHOD:PUBLISH
BEGIN:VEVENT
DTSTAMP:20260420T001041Z
UID:5-1143926@aplacetobelong.church
DTSTART:20261018T170000Z
DTEND:20261018T180000Z
CLASS:PUBLIC
CREATED:20260419T160159
DESCRIPTION:Sunday Worship
LAST-MODIFIED:20260419T160159
LOCATION:
SUMMARY:Sunday Worship
URL;VALUE=URI:https://www.placetobelong.church/events/sunday-worship/2026-1
 0-18
END:VEVENT
END:VCALENDAR
