BEGIN:VCALENDAR
VERSION:2.0
PRODID:icalendar-ruby
CALSCALE:GREGORIAN
METHOD:PUBLISH
BEGIN:VEVENT
DTSTAMP:20260420T014847Z
UID:5-1144514@aplacetobelong.church
DTSTART:20261025T170000Z
DTEND:20261025T180000Z
CLASS:PUBLIC
CREATED:20260419T194231
DESCRIPTION:Sunday Worship
LAST-MODIFIED:20260419T194231
LOCATION:
SUMMARY:Sunday Worship
URL;VALUE=URI:https://www.placetobelong.church/events/sunday-worship/2026-1
 0-25
END:VEVENT
END:VCALENDAR
