BEGIN:VCALENDAR
VERSION:2.0
PRODID:icalendar-ruby
CALSCALE:GREGORIAN
METHOD:PUBLISH
BEGIN:VEVENT
DTSTAMP:20260420T032227Z
UID:5-1144515@aplacetobelong.church
DTSTART:20261101T170000Z
DTEND:20261101T180000Z
CLASS:PUBLIC
CREATED:20260419T194231
DESCRIPTION:Sunday Worship
LAST-MODIFIED:20260419T194231
LOCATION:
SUMMARY:Sunday Worship
URL;VALUE=URI:https://www.placetobelong.church/events/sunday-worship/2026-1
 1-01
END:VEVENT
END:VCALENDAR
